BEGIN:VCALENDAR
VERSION:2.0
PRODID:-//Specialised Veterinary Ultrasound Solutions - ECPv4.6.23//NONSGML v1.0//EN
CALSCALE:GREGORIAN
METHOD:PUBLISH
X-WR-CALNAME:Specialised Veterinary Ultrasound Solutions
X-ORIGINAL-URL:https://www.bcfultrasound.com
X-WR-CALDESC:Events for Specialised Veterinary Ultrasound Solutions
BEGIN:VEVENT
DTSTART;VALUE=DATE:20200321
DTEND;VALUE=DATE:20200323
DTSTAMP:20191218T210853
CREATED:20191218T000454Z
LAST-MODIFIED:20191218T035333Z
UID:2800-1584748800-1584921599@www.bcfultrasound.com
SUMMARY:VetPD: Advanced Mare Reproduction – 2-Day Practical Course
DESCRIPTION:This two-day practical course (now featuring Placentitis and Foetal Sexing) has been developed for equine veterinarians and mixed animal practitioners with a working knowledge in the field of equine gynaecology (mare reproduction) and provides a critical update on topics of relevance to mare reproduction practice. Whereas previous VetPD Advanced Mare Reproduction courses in Australia focussed on artificial breeding\, the emphasis on this course will shift to more general equine stud practice and highlight the hot topics of placentitis and foetal sexing. \nIn the afternoons\, 7 hours of practical sessions (including live horse wetlabs\, video and case discussions) will give attendees plenty of opportunity to put theory into practice in small groups (2-4 attendees /ultrasound machine) and to discuss all aspects of gynaecology with the specialists. Practical workshops will cover: ultrasound examination (incl. doppler)\, hysteroscopy\, placentitis (transrectal and transabdominal examinations)\, uterine sampling techniques update\, foetal sexing (transrectal and transabdominal examinations). \nClick here for your BCF Client discount to use at registration\nGet in quick – Only 4 BCF client discounts available. \nFind Out More… \n
URL:https://www.bcfultrasound.com/event/vetpd-advanced-mare-reproduction-2020/
LOCATION:Hawkesbury Leisure & Learning Centre & Agnes Banks Equine Clinic\, NSW\, 2753\, Australia
CATEGORIES:Workshops
ATTACH;FMTTYPE=image/jpeg:https://www.bcfultrasound.com/wp-content/uploads/Advanced_Mare_Reproduction_March_2020_Banner.jpg
END:VEVENT
END:VCALENDAR